BEGIN:VCALENDAR
VERSION:2.0
PRODID:-//Sophicity/Tribune/Midway, KY
BEGIN:VEVENT
DTSTAMP:20260420T020530Z
UID:3b29fe0f-a6f5-4a24-a8c3-7164fb90467d-5037
DTSTART:20250318T220000Z
DTEND:20250319T000000Z
LOCATION:Midway Branch Library
CLASS:PUBLIC
SUMMARY:How Three women and a Bicycle Moved the Country toward Greater Rights for Women
END:VEVENT
END:VCALENDAR
